BEGIN:VCALENDAR
VERSION:2.0
PRODID:-//The Centre - ECPv6.15.20//NONSGML v1.0//EN
CALSCALE:GREGORIAN
METHOD:PUBLISH
X-ORIGINAL-URL:https://thecentre.org
X-WR-CALDESC:Events for The Centre
REFRESH-INTERVAL;VALUE=DURATION:PT1H
X-Robots-Tag:noindex
X-PUBLISHED-TTL:PT1H
BEGIN:VTIMEZONE
TZID:UTC
BEGIN:STANDARD
TZOFFSETFROM:+0000
TZOFFSETTO:+0000
TZNAME:UTC
DTSTART:20230101T000000
END:STANDARD
END:VTIMEZONE
BEGIN:VEVENT
DTSTART;TZID=UTC:20240430T113000
DTEND;TZID=UTC:20240430T123000
DTSTAMP:20260424T050736
CREATED:20240314T214334Z
LAST-MODIFIED:20240314T214334Z
UID:8527-1714476600-1714480200@thecentre.org
SUMMARY:Reflecting and sharing what has been gained through the group experience
DESCRIPTION:Final Session of 6-week Series \nJoin us to celebrate and reflect on the benefits of your journey in the support group. \nIn this final session of our ‘Trending Topic for Today’s women‘\, we will reflect on what has been gained throughout this experience. What was it like sharing with others? What was it like hearing the stories of other women? What did you learn about yourself? What questions remain? Come share\, listen\, celebrate\, and reflect on your continued journey of personal growth and progress. \nYou are invited to attend any or all of the sessions and feel free to bring your lunch. There is no charge for the meetings\, and beverages will be provided. \nAbout the Speaker: \nElodia is a mental health counselor at the Centre For Women where she works with individuals and couples across the age span. Her specific areas of interest are in neuroplasticity and non-pharmacological interventions to help reduce symptoms of depression and anxiety. Elodia holds a Bachelor of Arts degree in Psychology and a Master of Science in Psychology\, and will complete a Master of Arts in Rehabilitation and Mental Health Counseling from the University of South Florida in May. Elodia’s academic focus and masters thesis focused on coping skills courses for university and college students. She currently is involved in research pertaining to innovative design interventions to benefit people seeking mental health care.
URL:https://thecentre.org/event/reflecting-and-sharing-what-has-been-gained-through-the-group-experience/
LOCATION:The Kathy Castor Centre for Counseling and Wellness\, 105 West Sligh Avenue\, Tampa\, FL\, 33604\, United States
CATEGORIES:Class,Counseling & Wellness,Event,In Person Event,Workshop
END:VEVENT
END:VCALENDAR