BEGIN:VCALENDAR
VERSION:2.0
PRODID:-//The Centre - ECPv6.15.20//NONSGML v1.0//EN
CALSCALE:GREGORIAN
METHOD:PUBLISH
X-ORIGINAL-URL:https://thecentre.org
X-WR-CALDESC:Events for The Centre
REFRESH-INTERVAL;VALUE=DURATION:PT1H
X-Robots-Tag:noindex
X-PUBLISHED-TTL:PT1H
BEGIN:VTIMEZONE
TZID:America/New_York
BEGIN:DAYLIGHT
TZOFFSETFROM:-0500
TZOFFSETTO:-0400
TZNAME:EDT
DTSTART:20240310T070000
END:DAYLIGHT
BEGIN:STANDARD
TZOFFSETFROM:-0400
TZOFFSETTO:-0500
TZNAME:EST
DTSTART:20241103T060000
END:STANDARD
BEGIN:DAYLIGHT
TZOFFSETFROM:-0500
TZOFFSETTO:-0400
TZNAME:EDT
DTSTART:20250309T070000
END:DAYLIGHT
BEGIN:STANDARD
TZOFFSETFROM:-0400
TZOFFSETTO:-0500
TZNAME:EST
DTSTART:20251102T060000
END:STANDARD
BEGIN:DAYLIGHT
TZOFFSETFROM:-0500
TZOFFSETTO:-0400
TZNAME:EDT
DTSTART:20260308T070000
END:DAYLIGHT
BEGIN:STANDARD
TZOFFSETFROM:-0400
TZOFFSETTO:-0500
TZNAME:EST
DTSTART:20261101T060000
END:STANDARD
END:VTIMEZONE
BEGIN:VEVENT
DTSTART;TZID=America/New_York:20251001T120000
DTEND;TZID=America/New_York:20251001T130000
DTSTAMP:20260421T155125
CREATED:20250925T181448Z
LAST-MODIFIED:20250925T181448Z
UID:12020-1759320000-1759323600@thecentre.org
SUMMARY:The Self-Worth Circle: Empowerment for Women
DESCRIPTION:This October\, join us for a supportive virtual workshop series designed to strengthen self-esteem and confidence. Each week we’ll focus on a powerful theme. Together\, we’ll explore practical tools\, share honest conversations\, and create space to lift each other up. \nOctober 1 – Breaking Free from Comparison: Explore how social media\, cultural messages\, and peer pressure fuel comparison. Learn to notice comparison triggers and reframe them into self-compassion. \nOctober 8– Letting Go of Perfectionism: Understand how perfectionism can stem from fear of failure or criticism. Challenge all-or-nothing thinking and set realistic\, compassionate standards. \nOctober 15– Rewriting Negative Self-Talk: Identify inner critical voices and their origins (family\, culture\, past experiences). Practice replacing self-criticism with balanced\, supportive self-talk. \nOctober 22– Setting Boundaries and Building Assertiveness: Discuss how healthy boundaries protect self-esteem and build confidence. Practice saying “no” and expressing needs clearly without guilt. \nOctober 29 – Owning Your Strengths and Accomplishments: Explore how internalized beliefs can make women minimize their successes. Focus on recognizing and celebrating individual achievements and qualities. \nJoin all 5 weeks for the full experience—or choose the sessions that fit you best.
URL:https://thecentre.org/event/the-self-worth-circle-empowerment-for-women/
LOCATION:Virtual
CATEGORIES:C&W,Class,Kathy Castor Centre for Counseling & Wellness,Virtual,Webinar
END:VEVENT
END:VCALENDAR