BEGIN:VCALENDAR
VERSION:2.0
PRODID:-//The Centre - ECPv6.15.20//NONSGML v1.0//EN
CALSCALE:GREGORIAN
METHOD:PUBLISH
X-ORIGINAL-URL:https://thecentre.org
X-WR-CALDESC:Events for The Centre
REFRESH-INTERVAL;VALUE=DURATION:PT1H
X-Robots-Tag:noindex
X-PUBLISHED-TTL:PT1H
BEGIN:VTIMEZONE
TZID:America/New_York
BEGIN:DAYLIGHT
TZOFFSETFROM:-0500
TZOFFSETTO:-0400
TZNAME:EDT
DTSTART:20240310T070000
END:DAYLIGHT
BEGIN:STANDARD
TZOFFSETFROM:-0400
TZOFFSETTO:-0500
TZNAME:EST
DTSTART:20241103T060000
END:STANDARD
BEGIN:DAYLIGHT
TZOFFSETFROM:-0500
TZOFFSETTO:-0400
TZNAME:EDT
DTSTART:20250309T070000
END:DAYLIGHT
BEGIN:STANDARD
TZOFFSETFROM:-0400
TZOFFSETTO:-0500
TZNAME:EST
DTSTART:20251102T060000
END:STANDARD
BEGIN:DAYLIGHT
TZOFFSETFROM:-0500
TZOFFSETTO:-0400
TZNAME:EDT
DTSTART:20260308T070000
END:DAYLIGHT
BEGIN:STANDARD
TZOFFSETFROM:-0400
TZOFFSETTO:-0500
TZNAME:EST
DTSTART:20261101T060000
END:STANDARD
END:VTIMEZONE
BEGIN:VEVENT
DTSTART;TZID=America/New_York:20250708T130000
DTEND;TZID=America/New_York:20250708T140000
DTSTAMP:20260420T041328
CREATED:20250613T175906Z
LAST-MODIFIED:20250613T175906Z
UID:11013-1751979600-1751983200@thecentre.org
SUMMARY:The Unstuck Entrepreneur: Activate Your Mindset & Grow
DESCRIPTION:Learn the mindset & strategy to go from overwhelmed to unstoppable in your business. \nMany entrepreneurs feel overwhelmed\, stuck\, or unsure how to take their business to the next level. In this masterclass\, Alina\, a 6-figure global marketing agency founder who built her American dream from scratch\, will share her unique approach to transforming adversity into advantage. Discover how to activate a powerful growth mindset and gain strategic insights to confidently navigate challenges and consistently scale your business\, even when juggling multiple demands. You’ll leave with actionable steps to move beyond overwhelm and build a genuinely unstoppable enterprise. \nRegister here: https://www.eventbrite.com/e/1411177783739 \n*Reasonable accommodations for persons with disabilities will be made if requested at least two weeks in advance. Please contact the Tampa Bay Women’s Business Centre for more information: tbwbc@thecentre.org. \n 
URL:https://thecentre.org/event/the-unstuck-entrepreneur-activate-your-mindset-grow/
LOCATION:Virtual
CATEGORIES:Event,Virtual,Webinar,Women's Business Centre
ATTACH;FMTTYPE=image/png:https://thecentre.org/wp-content/uploads/2025/06/The-unstuck-entrepreneur-Activate-mondset-and-grow.png
END:VEVENT
BEGIN:VEVENT
DTSTART;TZID=America/New_York:20250709T100000
DTEND;TZID=America/New_York:20250709T120000
DTSTAMP:20260420T041328
CREATED:20250728T181403Z
LAST-MODIFIED:20250827T153446Z
UID:11228-1752055200-1752062400@thecentre.org
SUMMARY:Women Who Run With The Wolves 6-Week Summer Book Club
DESCRIPTION:The 1992 best-selling classic Women Who Run with the Wolves by Clarissa Pinkola Estés is making a comeback in 2025! We invite YOU to join our free summer book group\, guided by Pam Bittner\, a seasoned facilitator who has led many groups through this inspiring book. \nThrough guided reflection\, creative expression\, and shared storytelling\, attendees will explore essential themes that speak to the soul of women: \n\nReconnecting with inner strength\nRediscovering wild wisdom\nReclaiming your authentic voice\nExploring identity\, creativity\, and self-discovery\nNurturing courage\, resilience\, and renewal\n\nWhether you’re stepping into your power for the first time or coming home to it again\, this circle offers a safe\, supportive space to grow and be seen. \nDetails: \n\nSix biweekly sessions (6/25\, 7/9\, 7/23\, 8/6\, 8/20 and 9/3)\nBooks provided the first meeting\nLimited to 10 women\nFree to attend – registration is required\n\n**This event is currently at full capacity. We invite you to stay tuned for future opportunities.**
URL:https://thecentre.org/event/women-who-run-with-the-wolves-6-week-summer-book-club/
LOCATION:The Kathy Castor Centre for Counseling and Wellness\, 105 West Sligh Avenue\, Tampa\, FL\, 33604\, United States
ATTACH;FMTTYPE=image/png:https://thecentre.org/wp-content/uploads/2025/06/Women-Who-Run-With-Wolves-Book-Study_Eventbrite-.png
END:VEVENT
BEGIN:VEVENT
DTSTART;TZID=America/New_York:20250715T180000
DTEND;TZID=America/New_York:20250715T190000
DTSTAMP:20260420T041328
CREATED:20250702T160029Z
LAST-MODIFIED:20250702T160029Z
UID:11064-1752602400-1752606000@thecentre.org
SUMMARY:The Mama Circle
DESCRIPTION:This group is for pregnant women and moms with kids ages 2 and under. \nMotherhood is beautiful\, but it’s also messy\, emotional\, and full of moments no one prepares you for. Whether you’re pregnant\, holding a newborn\, or chasing toddlers\, you deserve a space to exhale\, be heard\, and feel supported. Join this free weekly online peer support group\, created for pregnant women\, new moms\, and moms of young children\, and led by an experienced social worker and fellow mama. This is a safe\, judgment-free space where real talk is welcome. \nWe’ll explore topics like: \n\nAnxiety & Depression During Pregnancy and Postpartum\nMom Guilt & Mental Load\nFeeding Challenges & Stigma\nIdentity Shifts & Relationship Changes\nNavigating Family Transitions\nAnd anything else that’s on your heart\n\nKeep in mind this is not therapy. It’s peer support\, mom to mom facilitated by an experienced social worker mama. Come as you are\, whether you’re still expecting\, recovering postpartum\, or in the thick of toddler life. \nYou’re not alone—and you don’t have to figure it all out by yourself. \nWeekly Meetings on Tuesdays | 6:00–7:00 PM (ET) \nJuly 15\, 22 and 29 I August 5\, 12\, 19 and 26 I September 2\, 9\, 16\, 23 and 30 \nImportant Information: You only need to register once! Although this is a recurring weekly event\, a single registration gives you access to all sessions. After your first meeting\, you’ll receive weekly reminders—no need to sign up again. You’re welcome to join us every week or simply attend the sessions that work best for you. For questions or more information\, contact our Program Coordinator: Thais Louzada – 656-207-7102 – tlouzada@thecentre.org
URL:https://thecentre.org/event/the-mama-circle/
LOCATION:Virtual
CATEGORIES:C&W,Counseling & Wellness,Kathy Castor Centre for Counseling & Wellness,Support Group,Virtual
ATTACH;FMTTYPE=image/png:https://thecentre.org/wp-content/uploads/2025/07/MAMA-CIRCLE-Eventbrite.png
END:VEVENT
BEGIN:VEVENT
DTSTART;TZID=America/New_York:20250717T110000
DTEND;TZID=America/New_York:20250717T120000
DTSTAMP:20260420T041328
CREATED:20250613T180324Z
LAST-MODIFIED:20250613T180324Z
UID:11020-1752750000-1752753600@thecentre.org
SUMMARY:Crecimiento inteligente: Utilice IA para su negocio\, no gaste en publicidad
DESCRIPTION:EVENTO EN ESPAÑOL \nDescubra cómo crecer su negocio local de forma automatizada con IA\, sin publicidad\, redes sociales ni complicaciones técnicas. \nAprenderá cómo incrementar sus ventas\, mejorar tu ranking en Google y obtener más reseñas\, todo de manera automatizada y sin necesidad de invertir en publicidad o redes sociales. Descubra cómo reducir costos en tareas no productivas y aumentar sus ingresos atrayendo nuevos clientes\, incrementando el valor de cada transacción y fomentando la frecuencia de compra. Una propuesta única para emprendedores que buscan simplificar y potenciar su negocio local. \nRegístrese aquí: https://www.eventbrite.com/e/1409351230469 \n  \n***Se harán adaptaciones razonables para personas con discapacidades si se solicitan con al menos dos semanas de anticipación. Por favor\, comuníquese con el Centro de Negocios para Mujeres de Tampa Bay al correo electrónico tbwbc@thecentre.org.
URL:https://thecentre.org/event/crecimiento-inteligente-utilice-ia-para-su-negocio-no-gaste-en-publicidad/
LOCATION:Virtual
CATEGORIES:Class,Virtual,Webinar,Women's Business Centre
ATTACH;FMTTYPE=image/png:https://thecentre.org/wp-content/uploads/2025/06/Crecimiento-inteligente-utiliza-IA-para-tu-negocio-sin-gastar-en-publicidad-.png
END:VEVENT
BEGIN:VEVENT
DTSTART;TZID=America/New_York:20250717T180000
DTEND;TZID=America/New_York:20250717T193000
DTSTAMP:20260420T041328
CREATED:20250709T154053Z
LAST-MODIFIED:20250709T154053Z
UID:11119-1752775200-1752780600@thecentre.org
SUMMARY:Freedom of Expression
DESCRIPTION:July’s Creative Courage Theme: Freedom of Expression! \nCelebrate your spirit of independence and inner strength in this uplifting\, creative workshop for women. Using ekphrasis—the art of responding to visual images through poetry-we’ll explore themes of freedom\, resilience\, and self-expression. With guided prompts and shared reflection\, we’ll let images spark personal insight\, playful discovery\, and connection. No writing or art experience needed—just curiosity\, courage\, and a willingness to show up as you are. Facilitated by Tiffany Baldwin\, counselor at the Centre\, and Shelby Smotherman\, writer\, visual artist\, and teaching artist \nThis monthly gathering is a dynamic and empowering space for women who find inspiration and connection through creativity. Designed to nurture self-awareness\, resilience\, and a sense of community\, Creative Courage blends educational content\, group discussions\, and experiential based activities to support personal growth and emotional well-being. \nEach session provides: \n\nEducational Content to explore themes like self-expression\, stress management\, and navigating challenges with creativity and courage.\nGroup Discussions to foster connection\, share experiences\, and build mutual support.\nApproachable Arts Activities led by facilitators (and occasional guest artists/co-facilitators)\, using creative exercises such as journaling\, movement\, visual arts\, poetry and storytelling to deepen self-awareness and promote healing.\n\nTherapeutic Goals: \n\nCultivate self-awareness by exploring creative expression.\nBuild resilience through the arts\, learning tools to manage stress and embrace change.\nStrengthen community connections by fostering a supportive and inclusive environment.\nEncourage emotional regulation and self-compassion through creative practices.\nEnhance confidence in self-expression and decision-making by embracing one’s unique creative identity.\n\nWhether you are a professional artist\, a creative enthusiast\, or simply someone drawn to the arts\, Creative Courage offers a safe and inspiring space to explore\, grow\, and connect. \nWeek 5: Freedom of Expression!
URL:https://thecentre.org/event/freedom-of-expression-2/
LOCATION:The Kathy Castor Centre for Counseling and Wellness\, 105 West Sligh Avenue\, Tampa\, FL\, 33604\, United States
CATEGORIES:C&W,Class,Counseling & Wellness,Event,In Person Event,Kathy Castor Centre for Counseling & Wellness,Workshop
ATTACH;FMTTYPE=image/png:https://thecentre.org/wp-content/uploads/2025/07/Freedom-of-Expression_Creative-Courage_Eventbrite-2160-x-1080-px.png
END:VEVENT
BEGIN:VEVENT
DTSTART;TZID=America/New_York:20250722T180000
DTEND;TZID=America/New_York:20250722T190000
DTSTAMP:20260420T041328
CREATED:20250702T160353Z
LAST-MODIFIED:20250702T160353Z
UID:11069-1753207200-1753210800@thecentre.org
SUMMARY:The Mama Circle
DESCRIPTION:This group is for pregnant women and moms with kids ages 2 and under. \nMotherhood is beautiful\, but it’s also messy\, emotional\, and full of moments no one prepares you for. Whether you’re pregnant\, holding a newborn\, or chasing toddlers\, you deserve a space to exhale\, be heard\, and feel supported. Join this free weekly online peer support group\, created for pregnant women\, new moms\, and moms of young children\, and led by an experienced social worker and fellow mama. This is a safe\, judgment-free space where real talk is welcome. \nWe’ll explore topics like: \n\nAnxiety & Depression During Pregnancy and Postpartum\nMom Guilt & Mental Load\nFeeding Challenges & Stigma\nIdentity Shifts & Relationship Changes\nNavigating Family Transitions\nAnd anything else that’s on your heart\n\nKeep in mind this is not therapy. It’s peer support\, mom to mom facilitated by an experienced social worker mama. Come as you are\, whether you’re still expecting\, recovering postpartum\, or in the thick of toddler life. \nYou’re not alone—and you don’t have to figure it all out by yourself. \nWeekly Meetings on Tuesdays | 6:00–7:00 PM (ET) \nJuly 15\, 22 and 29 I August 5\, 12\, 19 and 26 I September 2\, 9\, 16\, 23 and 30 \nImportant Information: You only need to register once! Although this is a recurring weekly event\, a single registration gives you access to all sessions. After your first meeting\, you’ll receive weekly reminders—no need to sign up again. You’re welcome to join us every week or simply attend the sessions that work best for you. For questions or more information\, contact our Program Coordinator: Thais Louzada – 656-207-7102 – tlouzada@thecentre.org
URL:https://thecentre.org/event/the-mama-circle-2/
LOCATION:Virtual
CATEGORIES:C&W,Counseling & Wellness,Kathy Castor Centre for Counseling & Wellness,Support Group
ATTACH;FMTTYPE=image/png:https://thecentre.org/wp-content/uploads/2025/07/MAMA-CIRCLE-Eventbrite.png
END:VEVENT
BEGIN:VEVENT
DTSTART;TZID=America/New_York:20250723T100000
DTEND;TZID=America/New_York:20250723T120000
DTSTAMP:20260420T041328
CREATED:20250728T181553Z
LAST-MODIFIED:20250827T153424Z
UID:11232-1753264800-1753272000@thecentre.org
SUMMARY:Women Who Run With The Wolves 6-Week Summer Book Club
DESCRIPTION:The 1992 best-selling classic Women Who Run with the Wolves by Clarissa Pinkola Estés is making a comeback in 2025! We invite YOU to join our free summer book group\, guided by Pam Bittner\, a seasoned facilitator who has led many groups through this inspiring book. \nThrough guided reflection\, creative expression\, and shared storytelling\, attendees will explore essential themes that speak to the soul of women: \n\nReconnecting with inner strength\nRediscovering wild wisdom\nReclaiming your authentic voice\nExploring identity\, creativity\, and self-discovery\nNurturing courage\, resilience\, and renewal\n\nWhether you’re stepping into your power for the first time or coming home to it again\, this circle offers a safe\, supportive space to grow and be seen. \nDetails: \n\nSix biweekly sessions (6/25\, 7/9\, 7/23\, 8/6\, 8/20 and 9/3)\nBooks provided the first meeting\nLimited to 10 women\nFree to attend – registration is required\n\n**This event is currently at full capacity. We invite you to stay tuned for future opportunities.**
URL:https://thecentre.org/event/women-who-run-with-the-wolves-6-week-summer-book-club-2/
LOCATION:The Kathy Castor Centre for Counseling and Wellness\, 105 West Sligh Avenue\, Tampa\, FL\, 33604\, United States
ATTACH;FMTTYPE=image/png:https://thecentre.org/wp-content/uploads/2025/06/Women-Who-Run-With-Wolves-Book-Study_Eventbrite-.png
END:VEVENT
BEGIN:VEVENT
DTSTART;TZID=America/New_York:20250724T110000
DTEND;TZID=America/New_York:20250724T120000
DTSTAMP:20260420T041328
CREATED:20250613T180708Z
LAST-MODIFIED:20250613T180708Z
UID:11027-1753354800-1753358400@thecentre.org
SUMMARY:Don’t Overpay for Business Insurance
DESCRIPTION:Do you have the right insurance for your business? Let’s dive into what you need (and don’t need) to cover your business assets. \nThe purchase of Business Insurance can be complex and confusing. Have you overpaid for insurance? Do you have it at all? Do you know what’s needed to adequately cover your business? Does the thought of buying insurance scare you to the point that you’ve not even protected your business\, employees or business property? During this virtual workshop\, we will focus on teaching the different types of commercial insurance. From general liability to workers compensation and everything in between\, you will leave feeling confident to make an informed decision about your business insurance needs. \nRegister here: https://www.eventbrite.com/e/1412654761419 \n  \n*Reasonable accommodations for persons with disabilities will be made if requested at least two weeks in advance. Please contact the Tampa Bay Women’s Business Centre for more information: tbwbc@thecentre.org.
URL:https://thecentre.org/event/dont-overpay-for-business-insurance-2/
LOCATION:Virtual
CATEGORIES:Class,Virtual,Webinar,Women's Business Centre
ATTACH;FMTTYPE=image/png:https://thecentre.org/wp-content/uploads/2025/06/Dont-Overpay-for-Business-Insurance.png
END:VEVENT
BEGIN:VEVENT
DTSTART;TZID=America/New_York:20250729T130000
DTEND;TZID=America/New_York:20250729T140000
DTSTAMP:20260420T041328
CREATED:20250625T180211Z
LAST-MODIFIED:20250625T180211Z
UID:11048-1753794000-1753797600@thecentre.org
SUMMARY:Social Media That Works: Building a Sustainable Calendar Plan
DESCRIPTION:Are you a successful entrepreneur that is still struggling to keep up with social media\, constantly searching for new ideas\, or feeling overwhelmed by the content trendmill? This webinar is for you! Learn to move beyond random posting\, consistently engage your ideal customers\, and build a powerful online presence without burning out. Discover the strategies to make social media work for you\, turning your efforts into real business results. \n*Reasonable accommodations for persons with disabilities will be made if requested at least two weeks in advance. Please contact the Tampa Bay Women’s Business Centre for more information: tbwbc@thecentre.org. \nRegister here: https://www.eventbrite.com/e/1434997679689
URL:https://thecentre.org/event/social-media-that-works-building-a-sustainable-calendar-plan/
LOCATION:Virtual
CATEGORIES:Class,Virtual,Webinar,Women's Business Centre
ATTACH;FMTTYPE=image/png:https://thecentre.org/wp-content/uploads/2025/06/Social-Media-Calendar.png
END:VEVENT
BEGIN:VEVENT
DTSTART;TZID=America/New_York:20250729T180000
DTEND;TZID=America/New_York:20250729T190000
DTSTAMP:20260420T041328
CREATED:20250702T160627Z
LAST-MODIFIED:20250702T160627Z
UID:11073-1753812000-1753815600@thecentre.org
SUMMARY:The Mama Circle
DESCRIPTION:This group is for pregnant women and moms with kids ages 2 and under. \nMotherhood is beautiful\, but it’s also messy\, emotional\, and full of moments no one prepares you for. Whether you’re pregnant\, holding a newborn\, or chasing toddlers\, you deserve a space to exhale\, be heard\, and feel supported. Join this free weekly online peer support group\, created for pregnant women\, new moms\, and moms of young children\, and led by an experienced social worker and fellow mama. This is a safe\, judgment-free space where real talk is welcome. \nWe’ll explore topics like: \n\nAnxiety & Depression During Pregnancy and Postpartum\nMom Guilt & Mental Load\nFeeding Challenges & Stigma\nIdentity Shifts & Relationship Changes\nNavigating Family Transitions\nAnd anything else that’s on your heart\n\nKeep in mind this is not therapy. It’s peer support\, mom to mom facilitated by an experienced social worker mama. Come as you are\, whether you’re still expecting\, recovering postpartum\, or in the thick of toddler life. \nYou’re not alone—and you don’t have to figure it all out by yourself. \nWeekly Meetings on Tuesdays | 6:00–7:00 PM (ET) \nJuly 15\, 22 and 29 I August 5\, 12\, 19 and 26 I September 2\, 9\, 16\, 23 and 30 \nImportant Information: You only need to register once! Although this is a recurring weekly event\, a single registration gives you access to all sessions. After your first meeting\, you’ll receive weekly reminders—no need to sign up again. You’re welcome to join us every week or simply attend the sessions that work best for you. For questions or more information\, contact our Program Coordinator: Thais Louzada – 656-207-7102 – tlouzada@thecentre.org
URL:https://thecentre.org/event/the-mama-circle-3/
LOCATION:Virtual
CATEGORIES:C&W,Counseling & Wellness,Kathy Castor Centre for Counseling & Wellness,Virtual
ATTACH;FMTTYPE=image/png:https://thecentre.org/wp-content/uploads/2025/07/MAMA-CIRCLE-Eventbrite.png
END:VEVENT
END:VCALENDAR