BEGIN:VCALENDAR
VERSION:2.0
PRODID:-//The Centre - ECPv6.15.20//NONSGML v1.0//EN
CALSCALE:GREGORIAN
METHOD:PUBLISH
X-ORIGINAL-URL:https://thecentre.org
X-WR-CALDESC:Events for The Centre
REFRESH-INTERVAL;VALUE=DURATION:PT1H
X-Robots-Tag:noindex
X-PUBLISHED-TTL:PT1H
BEGIN:VTIMEZONE
TZID:America/New_York
BEGIN:DAYLIGHT
TZOFFSETFROM:-0500
TZOFFSETTO:-0400
TZNAME:EDT
DTSTART:20250309T070000
END:DAYLIGHT
BEGIN:STANDARD
TZOFFSETFROM:-0400
TZOFFSETTO:-0500
TZNAME:EST
DTSTART:20251102T060000
END:STANDARD
BEGIN:DAYLIGHT
TZOFFSETFROM:-0500
TZOFFSETTO:-0400
TZNAME:EDT
DTSTART:20260308T070000
END:DAYLIGHT
BEGIN:STANDARD
TZOFFSETFROM:-0400
TZOFFSETTO:-0500
TZNAME:EST
DTSTART:20261101T060000
END:STANDARD
BEGIN:DAYLIGHT
TZOFFSETFROM:-0500
TZOFFSETTO:-0400
TZNAME:EDT
DTSTART:20270314T070000
END:DAYLIGHT
BEGIN:STANDARD
TZOFFSETFROM:-0400
TZOFFSETTO:-0500
TZNAME:EST
DTSTART:20271107T060000
END:STANDARD
END:VTIMEZONE
BEGIN:VEVENT
DTSTART;TZID=America/New_York:20260515T120000
DTEND;TZID=America/New_York:20260515T130000
DTSTAMP:20260422T091357
CREATED:20260413T145105Z
LAST-MODIFIED:20260418T121123Z
UID:13492-1778846400-1778850000@thecentre.org
SUMMARY:Innovation in HER Voice with Ryann Halo
DESCRIPTION:Ready to grow\, lead\, and level up?\n\n\n\n\nInnovation in HER Voice is a dynamic leadership series created for women who are ready for more—more clarity\, more confidence\, and more connection. \nThrough powerful conversations\, real-life experiences\, and actionable insight\, each session is designed to provide coaching\, mentorship\, and the tools you need to move forward with purpose. \nThis isn’t just inspiration—it’s strategy\, guidance\, and access to women who have done the work and are ready to pour into you. \nSession sizes are limited to keep the experience intentional and impactful \nFREE\nLight Lunch Provided \n  \n\n\nRyann Halo\n\n\n\n\nFrom High School Dropout to Seven-Figure Founder: Building Business Success Through Servant Leadership\n\n\n\n\nLearn how resilience\, vision\, and servant leadership can turn setbacks into seven-figure success. \n\n\n  \nRyann Halo is a visionary entrepreneur\, transformational speaker\, and business strategist known for empowering female founders and small business leaders to scale with confidence and purpose. She is the Founder & CEO of Salon Halo\, one of North America’s top 200 salons\, as well as the founder of Halo Consulting & Education\, a growth strategy firm dedicated to helping business owners achieve sustainable success. \nRyann’s journey from adversity to achievement is a central part of her leadership story. Facing unimaginable challenges early in life—including dropping out of high school and overcoming hardship—she transformed those experiences into resilience and strength. With nearly two decades of experience in entrepreneurship and leadership\, she built a multi‑7‑figure business\, proving that success is possible from any starting point. \nHer signature “Grow & Glow” method equips business owners with a proven framework to build cohesive teams\, streamline operations\, and free up personal time while scaling their organizations with intention and clarity. In addition to consulting\, Ryann is a sought‑after keynote speaker\, inspiring audiences with her authentic story and practical strategies for growth. \nRyann is also John Maxwell Certified Coach\, a credential that reflects her commitment to leadership excellence and ongoing development. Through her work\, she champions empowerment\, community impact\, and personal freedom\, helping others turn their entrepreneurial aspirations into thriving realities.
URL:https://thecentre.org/event/innovation-in-her-voice-with-ryann-halo/
LOCATION:Virtual
CATEGORIES:In Person Event,Luncheon,Networking,Workshop
ATTACH;FMTTYPE=image/png:https://thecentre.org/wp-content/uploads/2026/04/EB_Innovation-Her_Ryann.png
ORGANIZER;CN="The Centre for Women":MAILTO:info@thecentre.org
END:VEVENT
END:VCALENDAR