BEGIN:VCALENDAR
VERSION:2.0
PRODID:-//The Centre - ECPv6.15.20//NONSGML v1.0//EN
CALSCALE:GREGORIAN
METHOD:PUBLISH
X-ORIGINAL-URL:https://thecentre.org
X-WR-CALDESC:Events for The Centre
REFRESH-INTERVAL;VALUE=DURATION:PT1H
X-Robots-Tag:noindex
X-PUBLISHED-TTL:PT1H
BEGIN:VTIMEZONE
TZID:America/New_York
BEGIN:DAYLIGHT
TZOFFSETFROM:-0500
TZOFFSETTO:-0400
TZNAME:EDT
DTSTART:20250309T070000
END:DAYLIGHT
BEGIN:STANDARD
TZOFFSETFROM:-0400
TZOFFSETTO:-0500
TZNAME:EST
DTSTART:20251102T060000
END:STANDARD
BEGIN:DAYLIGHT
TZOFFSETFROM:-0500
TZOFFSETTO:-0400
TZNAME:EDT
DTSTART:20260308T070000
END:DAYLIGHT
BEGIN:STANDARD
TZOFFSETFROM:-0400
TZOFFSETTO:-0500
TZNAME:EST
DTSTART:20261101T060000
END:STANDARD
BEGIN:DAYLIGHT
TZOFFSETFROM:-0500
TZOFFSETTO:-0400
TZNAME:EDT
DTSTART:20270314T070000
END:DAYLIGHT
BEGIN:STANDARD
TZOFFSETFROM:-0400
TZOFFSETTO:-0500
TZNAME:EST
DTSTART:20271107T060000
END:STANDARD
END:VTIMEZONE
BEGIN:VEVENT
DTSTART;TZID=America/New_York:20260417T120000
DTEND;TZID=America/New_York:20260417T130000
DTSTAMP:20260422T070008
CREATED:20260324T162724Z
LAST-MODIFIED:20260330T203037Z
UID:13353-1776427200-1776430800@thecentre.org
SUMMARY:Anti-Inflammatory Eating for Women 35+
DESCRIPTION:  \n\n\n\n\n\n\n  \n\nLearn simple\, tasty ways to eat that help fight inflammation and boost your energy after 35. \n\n\n\nJoin this live\, online workshop designed to help women understand how everyday food choices can either fuel inflammation or support the body’s natural balance. \nAs women move through their 30s and beyond\, subtle shifts in metabolism\, energy\, digestion\, sleep\, and hormones are common. Chronic low-grade inflammation—often influenced by diet\, stress\, and lifestyle—can contribute to fatigue\, stubborn weight gain\, brain fog\, digestive discomfort\, and mood changes. \nThis webinar will show you how to use nutrition as a simple\, realistic\, and sustainable tool to support your body from the inside out. \nWhat Expect: \n✔ How to identify foods that may increase or reduce inflammation \n✔ A simple framework for building anti-inflammatory meals \n✔ Everyday habits that support energy\, mood\, and digestion \n✔ Practical strategies you can start using immediately \nPerfect for women looking for a balanced\, no-pressure approach to feeling better—without restrictive diets or complicated rules. \nThis is an educational\, supportive\, and judgment-free session. No medical advice will be provided\, and no supplements or expensive programs are required.
URL:https://thecentre.org/event/anti-inflammatory-eating-for-women-35/
LOCATION:Virtual
CATEGORIES:C&W,Class,Counseling & Wellness,Kathy Castor Centre for Counseling & Wellness,Virtual,Webinar
ATTACH;FMTTYPE=image/png:https://thecentre.org/wp-content/uploads/2026/03/Anti-Inflammatory-Eating-for-Women-35_Eventbrite-1920-x-1080-px-.png
END:VEVENT
END:VCALENDAR