BEGIN:VCALENDAR
VERSION:2.0
PRODID:-//The Centre - ECPv6.15.20//NONSGML v1.0//EN
CALSCALE:GREGORIAN
METHOD:PUBLISH
X-WR-CALNAME:The Centre
X-ORIGINAL-URL:https://thecentre.org
X-WR-CALDESC:Events for The Centre
REFRESH-INTERVAL;VALUE=DURATION:PT1H
X-Robots-Tag:noindex
X-PUBLISHED-TTL:PT1H
BEGIN:VTIMEZONE
TZID:America/New_York
BEGIN:DAYLIGHT
TZOFFSETFROM:-0500
TZOFFSETTO:-0400
TZNAME:EDT
DTSTART:20250309T070000
END:DAYLIGHT
BEGIN:STANDARD
TZOFFSETFROM:-0400
TZOFFSETTO:-0500
TZNAME:EST
DTSTART:20251102T060000
END:STANDARD
BEGIN:DAYLIGHT
TZOFFSETFROM:-0500
TZOFFSETTO:-0400
TZNAME:EDT
DTSTART:20260308T070000
END:DAYLIGHT
BEGIN:STANDARD
TZOFFSETFROM:-0400
TZOFFSETTO:-0500
TZNAME:EST
DTSTART:20261101T060000
END:STANDARD
BEGIN:DAYLIGHT
TZOFFSETFROM:-0500
TZOFFSETTO:-0400
TZNAME:EDT
DTSTART:20270314T070000
END:DAYLIGHT
BEGIN:STANDARD
TZOFFSETFROM:-0400
TZOFFSETTO:-0500
TZNAME:EST
DTSTART:20271107T060000
END:STANDARD
END:VTIMEZONE
BEGIN:VEVENT
DTSTART;TZID=America/New_York:20260219T113000
DTEND;TZID=America/New_York:20260219T130000
DTSTAMP:20260422T042227
CREATED:20260107T192103Z
LAST-MODIFIED:20260107T192701Z
UID:12741-1771500600-1771506000@thecentre.org
SUMMARY:IN-PERSON WORKSHOP: Securing Your Brand with Trademarks and Copyrights
DESCRIPTION:Explore how to protect your ideas\, business reputation and brand in this interactive workshop on trademarks and copyrights \nIN-PERSON WORKSHOP \nJoin us for an exciting event\, where we will explore the world of intellectual property and learn how to protect your business ideas and innovations. \nWhether you’re an entrepreneur\, a startup owner\, or a seasoned business professional\, this event is perfect for you! Our speakers\, Attorneys Melissa Jeda & HollyMcFall\, will share valuable insights on trademarks\, copyrights\, patents and trade secrets and how they can be used to protect your business. \nDuring this interactive workshop\, attendees will learn about the nuances of intellectual property rights and practical strategies for protecting their business assets. \nParticipants will engage in hands-on tasks\, including identifying potential intellectual property within their businesses\, learning how to apply for trademarks/copyrights\, and understanding how to leverage these rights for business growth. \nBy the end of this session\, attendees will walk away with a solid foundation in intellectual property protection and a roadmap for future action. \nDon’t miss out on this opportunity to gain a competitive edge and safeguard your success. \nThis event is sponsored by SecureMarkLegal.com \nEvent Details:\nDate: Thursday\, February 19\, 2026 \nTime: 11:30 pm – 1:00 pm \nLocation: Entrepreneur Collaborative Center (ECC) \n2101 E. Palm Ave. \nTampa\, FL 33605 \n*Limited spaces available.\n*Registration is necessary to attend this event.\nRegister here: https://www.eventbrite.com/e/1977623805037 \n*Reasonable accommodations for persons with disabilities will be made if requested at least two weeks in advance. Please contact the Tampa Bay Women’s Business Centre for more information: tbwbc@thecentre.org.
URL:https://thecentre.org/event/in-person-workshop-securing-your-brand-with-trademarks-and-copyrights/
LOCATION:entrepreneurial collaborative center\, 2101 E Palm Ave\, Tampa\, 33605\, United States
CATEGORIES:Class,In Person Event,Women's Business Centre
END:VEVENT
END:VCALENDAR