BEGIN:VCALENDAR
VERSION:2.0
PRODID:-//The Centre - ECPv6.15.20//NONSGML v1.0//EN
CALSCALE:GREGORIAN
METHOD:PUBLISH
X-WR-CALNAME:The Centre
X-ORIGINAL-URL:https://thecentre.org
X-WR-CALDESC:Events for The Centre
REFRESH-INTERVAL;VALUE=DURATION:PT1H
X-Robots-Tag:noindex
X-PUBLISHED-TTL:PT1H
BEGIN:VTIMEZONE
TZID:America/New_York
BEGIN:DAYLIGHT
TZOFFSETFROM:-0500
TZOFFSETTO:-0400
TZNAME:EDT
DTSTART:20250309T070000
END:DAYLIGHT
BEGIN:STANDARD
TZOFFSETFROM:-0400
TZOFFSETTO:-0500
TZNAME:EST
DTSTART:20251102T060000
END:STANDARD
BEGIN:DAYLIGHT
TZOFFSETFROM:-0500
TZOFFSETTO:-0400
TZNAME:EDT
DTSTART:20260308T070000
END:DAYLIGHT
BEGIN:STANDARD
TZOFFSETFROM:-0400
TZOFFSETTO:-0500
TZNAME:EST
DTSTART:20261101T060000
END:STANDARD
BEGIN:DAYLIGHT
TZOFFSETFROM:-0500
TZOFFSETTO:-0400
TZNAME:EDT
DTSTART:20270314T070000
END:DAYLIGHT
BEGIN:STANDARD
TZOFFSETFROM:-0400
TZOFFSETTO:-0500
TZNAME:EST
DTSTART:20271107T060000
END:STANDARD
END:VTIMEZONE
BEGIN:VEVENT
DTSTART;TZID=America/New_York:20260424T100000
DTEND;TZID=America/New_York:20260424T120000
DTSTAMP:20260424T014709
CREATED:20260330T203519Z
LAST-MODIFIED:20260330T203519Z
UID:13439-1777024800-1777032000@thecentre.org
SUMMARY:Living Life in Full Color
DESCRIPTION:Women 60+ Monthly Support Group\nIf your life were a canvas\, what colors would be on it? In honor of spring and the vibrancy it offers us\, this month we will take time to reflect on the colors that shape our moods and meaningful moments. Together\, we will exchange perspectives about colors that resonate then and now. We’ll explore how we find beauty and inspiration in the tapestries of colors around us today. \nWhat to Expect: \n\nA welcoming and supportive environment\nCreative exploration through color\nShare your story\nConnect through conversation\n\nIn Person Meeting \nPlease reach out if you have any questions: 813-921-9461 or Email: tlouzada@thecentre.org
URL:https://thecentre.org/event/living-life-in-full-color/
LOCATION:The Kathy Castor Centre for Counseling and Wellness\, 105 West Sligh Avenue\, Tampa\, FL\, 33604\, United States
CATEGORIES:C&W,Counseling & Wellness,Kathy Castor Centre for Counseling & Wellness,Support Group
ATTACH;FMTTYPE=image/png:https://thecentre.org/wp-content/uploads/2026/03/WOMEN-60-monthly-FREE-SUPPORT-GROUP-April_Eventbrite-1920-x-1080-px-.png
END:VEVENT
BEGIN:VEVENT
DTSTART;TZID=America/New_York:20260424T120000
DTEND;TZID=America/New_York:20260424T130000
DTSTAMP:20260424T014709
CREATED:20260413T151051Z
LAST-MODIFIED:20260417T201654Z
UID:13497-1777032000-1777035600@thecentre.org
SUMMARY:INNOVATION IN HER VOICE WITH Cathy Falanga
DESCRIPTION:Ready to grow\, lead\, and level up? \nInnovation in HER Voice is a dynamic leadership series created for women who are ready for more—more clarity\, more confidence\, and more connection. \nThrough powerful conversations\, real-life experiences\, and actionable insight\, each session is designed to provide coaching\, mentorship\, and the tools you need to move forward with purpose. \nThis isn’t just inspiration—it’s strategy\, guidance\, and access to women who have done the work and are ready to pour into you. \nSession sizes are limited to keep the experience intentional and impactful \nFREE\nLight Lunch Provided \n  \n\n\nCathy Falanga\n\n\n\n\nEmpowering Elevation: Empowering Women’s Journeys from Career Breaks to Leadership Brilliance\n\n\n\n\nStep back in with confidence and discover how to turn career pauses into powerful comebacks. \n\n  \nCathy Falanga\, SHRM-SCP\, HCMQA is a seasoned Human Resources professional with a passion for empowering businesses and individuals to thrive. With a longstanding career dedicated to delivering comprehensive HR solutions across the U.S.\, Cathy combines strategic insight\, mentorship\, and training expertise to support organizations of all sizes. \nHer professional strengths include HR compliance and strategy\, training and development\, new hire onboarding\, career development mentoring\, and providing strategic guidance to executives. Cathy works closely with c-suite leaders to align workforce engagement with organizational goals while fostering growth and development at all levels of the company. She has delivered impactful seminars and workshops tailored to diverse audiences and continues to mentor professionals in their personal and career journeys.
URL:https://thecentre.org/event/innovation-in-her-voice-with-cathy-falanga/
LOCATION:Virtual
CATEGORIES:In Person Event,Luncheon,Networking,Workshop
ATTACH;FMTTYPE=image/png:https://thecentre.org/wp-content/uploads/2026/04/EB_Innovation-Her_Cathy.png
ORGANIZER;CN="The Centre for Women":MAILTO:info@thecentre.org
END:VEVENT
END:VCALENDAR