BEGIN:VCALENDAR
VERSION:2.0
PRODID:-//The Centre - ECPv6.15.20//NONSGML v1.0//EN
CALSCALE:GREGORIAN
METHOD:PUBLISH
X-WR-CALNAME:The Centre
X-ORIGINAL-URL:https://thecentre.org
X-WR-CALDESC:Events for The Centre
REFRESH-INTERVAL;VALUE=DURATION:PT1H
X-Robots-Tag:noindex
X-PUBLISHED-TTL:PT1H
BEGIN:VTIMEZONE
TZID:America/New_York
BEGIN:DAYLIGHT
TZOFFSETFROM:-0500
TZOFFSETTO:-0400
TZNAME:EDT
DTSTART:20240310T070000
END:DAYLIGHT
BEGIN:STANDARD
TZOFFSETFROM:-0400
TZOFFSETTO:-0500
TZNAME:EST
DTSTART:20241103T060000
END:STANDARD
BEGIN:DAYLIGHT
TZOFFSETFROM:-0500
TZOFFSETTO:-0400
TZNAME:EDT
DTSTART:20250309T070000
END:DAYLIGHT
BEGIN:STANDARD
TZOFFSETFROM:-0400
TZOFFSETTO:-0500
TZNAME:EST
DTSTART:20251102T060000
END:STANDARD
BEGIN:DAYLIGHT
TZOFFSETFROM:-0500
TZOFFSETTO:-0400
TZNAME:EDT
DTSTART:20260308T070000
END:DAYLIGHT
BEGIN:STANDARD
TZOFFSETFROM:-0400
TZOFFSETTO:-0500
TZNAME:EST
DTSTART:20261101T060000
END:STANDARD
END:VTIMEZONE
BEGIN:VEVENT
DTSTART;TZID=America/New_York:20250729T130000
DTEND;TZID=America/New_York:20250729T140000
DTSTAMP:20260422T044810
CREATED:20250625T180211Z
LAST-MODIFIED:20250625T180211Z
UID:11048-1753794000-1753797600@thecentre.org
SUMMARY:Social Media That Works: Building a Sustainable Calendar Plan
DESCRIPTION:Are you a successful entrepreneur that is still struggling to keep up with social media\, constantly searching for new ideas\, or feeling overwhelmed by the content trendmill? This webinar is for you! Learn to move beyond random posting\, consistently engage your ideal customers\, and build a powerful online presence without burning out. Discover the strategies to make social media work for you\, turning your efforts into real business results. \n*Reasonable accommodations for persons with disabilities will be made if requested at least two weeks in advance. Please contact the Tampa Bay Women’s Business Centre for more information: tbwbc@thecentre.org. \nRegister here: https://www.eventbrite.com/e/1434997679689
URL:https://thecentre.org/event/social-media-that-works-building-a-sustainable-calendar-plan/
LOCATION:Virtual
CATEGORIES:Class,Virtual,Webinar,Women's Business Centre
ATTACH;FMTTYPE=image/png:https://thecentre.org/wp-content/uploads/2025/06/Social-Media-Calendar.png
END:VEVENT
BEGIN:VEVENT
DTSTART;TZID=America/New_York:20250729T180000
DTEND;TZID=America/New_York:20250729T190000
DTSTAMP:20260422T044810
CREATED:20250702T160627Z
LAST-MODIFIED:20250702T160627Z
UID:11073-1753812000-1753815600@thecentre.org
SUMMARY:The Mama Circle
DESCRIPTION:This group is for pregnant women and moms with kids ages 2 and under. \nMotherhood is beautiful\, but it’s also messy\, emotional\, and full of moments no one prepares you for. Whether you’re pregnant\, holding a newborn\, or chasing toddlers\, you deserve a space to exhale\, be heard\, and feel supported. Join this free weekly online peer support group\, created for pregnant women\, new moms\, and moms of young children\, and led by an experienced social worker and fellow mama. This is a safe\, judgment-free space where real talk is welcome. \nWe’ll explore topics like: \n\nAnxiety & Depression During Pregnancy and Postpartum\nMom Guilt & Mental Load\nFeeding Challenges & Stigma\nIdentity Shifts & Relationship Changes\nNavigating Family Transitions\nAnd anything else that’s on your heart\n\nKeep in mind this is not therapy. It’s peer support\, mom to mom facilitated by an experienced social worker mama. Come as you are\, whether you’re still expecting\, recovering postpartum\, or in the thick of toddler life. \nYou’re not alone—and you don’t have to figure it all out by yourself. \nWeekly Meetings on Tuesdays | 6:00–7:00 PM (ET) \nJuly 15\, 22 and 29 I August 5\, 12\, 19 and 26 I September 2\, 9\, 16\, 23 and 30 \nImportant Information: You only need to register once! Although this is a recurring weekly event\, a single registration gives you access to all sessions. After your first meeting\, you’ll receive weekly reminders—no need to sign up again. You’re welcome to join us every week or simply attend the sessions that work best for you. For questions or more information\, contact our Program Coordinator: Thais Louzada – 656-207-7102 – tlouzada@thecentre.org
URL:https://thecentre.org/event/the-mama-circle-3/
LOCATION:Virtual
CATEGORIES:C&W,Counseling & Wellness,Kathy Castor Centre for Counseling & Wellness,Virtual
ATTACH;FMTTYPE=image/png:https://thecentre.org/wp-content/uploads/2025/07/MAMA-CIRCLE-Eventbrite.png
END:VEVENT
END:VCALENDAR