BEGIN:VCALENDAR
VERSION:2.0
PRODID:-//The Centre - ECPv6.15.20//NONSGML v1.0//EN
CALSCALE:GREGORIAN
METHOD:PUBLISH
X-WR-CALNAME:The Centre
X-ORIGINAL-URL:https://thecentre.org
X-WR-CALDESC:Events for The Centre
REFRESH-INTERVAL;VALUE=DURATION:PT1H
X-Robots-Tag:noindex
X-PUBLISHED-TTL:PT1H
BEGIN:VTIMEZONE
TZID:America/New_York
BEGIN:DAYLIGHT
TZOFFSETFROM:-0500
TZOFFSETTO:-0400
TZNAME:EDT
DTSTART:20240310T070000
END:DAYLIGHT
BEGIN:STANDARD
TZOFFSETFROM:-0400
TZOFFSETTO:-0500
TZNAME:EST
DTSTART:20241103T060000
END:STANDARD
BEGIN:DAYLIGHT
TZOFFSETFROM:-0500
TZOFFSETTO:-0400
TZNAME:EDT
DTSTART:20250309T070000
END:DAYLIGHT
BEGIN:STANDARD
TZOFFSETFROM:-0400
TZOFFSETTO:-0500
TZNAME:EST
DTSTART:20251102T060000
END:STANDARD
BEGIN:DAYLIGHT
TZOFFSETFROM:-0500
TZOFFSETTO:-0400
TZNAME:EDT
DTSTART:20260308T070000
END:DAYLIGHT
BEGIN:STANDARD
TZOFFSETFROM:-0400
TZOFFSETTO:-0500
TZNAME:EST
DTSTART:20261101T060000
END:STANDARD
END:VTIMEZONE
BEGIN:VEVENT
DTSTART;TZID=America/New_York:20250618T100000
DTEND;TZID=America/New_York:20250618T110000
DTSTAMP:20260421T071821
CREATED:20250602T190626Z
LAST-MODIFIED:20250602T190626Z
UID:10960-1750240800-1750244400@thecentre.org
SUMMARY:WOMEN 60+SUPPORT GROUP
DESCRIPTION:Join Centre Counselor Naischa Justin on Wednesday\, June 18\, from 10:00–11:00 AM for an empowering circle for women aged 60+.  Come connect\, share your stories\, and flourish in a supportive and nurturing space. \nNew members are always welcome! \nTo register\, give us a call at 813-251-8437
URL:https://thecentre.org/event/women-60support-group-6/
LOCATION:The Kathy Castor Centre for Counseling and Wellness\, 105 West Sligh Avenue\, Tampa\, FL\, 33604\, United States
CATEGORIES:C&W,Class,Counseling & Wellness,Kathy Castor Centre for Counseling & Wellness
END:VEVENT
END:VCALENDAR